BEGIN:VCALENDAR
VERSION:2.0
PRODID:-//Caroline Colonna Realtor® - ECPv6.15.20//NONSGML v1.0//EN
CALSCALE:GREGORIAN
METHOD:PUBLISH
X-WR-CALNAME:Caroline Colonna Realtor®
X-ORIGINAL-URL:https://carolinecolonna.com
X-WR-CALDESC:Events for Caroline Colonna Realtor®
REFRESH-INTERVAL;VALUE=DURATION:PT1H
X-Robots-Tag:noindex
X-PUBLISHED-TTL:PT1H
BEGIN:VTIMEZONE
TZID:America/New_York
BEGIN:DAYLIGHT
TZOFFSETFROM:-0500
TZOFFSETTO:-0400
TZNAME:EDT
DTSTART:20240310T070000
END:DAYLIGHT
BEGIN:STANDARD
TZOFFSETFROM:-0400
TZOFFSETTO:-0500
TZNAME:EST
DTSTART:20241103T060000
END:STANDARD
BEGIN:DAYLIGHT
TZOFFSETFROM:-0500
TZOFFSETTO:-0400
TZNAME:EDT
DTSTART:20250309T070000
END:DAYLIGHT
BEGIN:STANDARD
TZOFFSETFROM:-0400
TZOFFSETTO:-0500
TZNAME:EST
DTSTART:20251102T060000
END:STANDARD
BEGIN:DAYLIGHT
TZOFFSETFROM:-0500
TZOFFSETTO:-0400
TZNAME:EDT
DTSTART:20260308T070000
END:DAYLIGHT
BEGIN:STANDARD
TZOFFSETFROM:-0400
TZOFFSETTO:-0500
TZNAME:EST
DTSTART:20261101T060000
END:STANDARD
END:VTIMEZONE
BEGIN:VEVENT
DTSTART;TZID=America/New_York:20250922T114500
DTEND;TZID=America/New_York:20250922T130000
DTSTAMP:20260423T120415
CREATED:20250827T153851Z
LAST-MODIFIED:20250827T153851Z
UID:1260-1758541500-1758546000@carolinecolonna.com
SUMMARY:Weightlifting\, Balance\, Nutrtion\, OH MY!
DESCRIPTION:Topics Covered: \nSafe and effective weightlifting for seniors \nSimple balance exercises to prevent falls \nNutrtional tips for optimal health
URL:https://carolinecolonna.com/event/weightlifting-balance-nutrtion-oh-my/
LOCATION:434 Prior Street SE\, Gainesville\, Ga 30501
CATEGORIES:Life After 55 Truth Series
ORGANIZER;CN="Caroline Colonna":MAILTO:carolinecolonnare@gmail.com
END:VEVENT
BEGIN:VEVENT
DTSTART;TZID=America/New_York:20250818T114500
DTEND;TZID=America/New_York:20250818T130000
DTSTAMP:20260423T120415
CREATED:20250729T143913Z
LAST-MODIFIED:20250729T143913Z
UID:1257-1755517500-1755522000@carolinecolonna.com
SUMMARY:Scams Targeting Seniors
DESCRIPTION:Topics Covered: \nHow to avoid phising\, telemarkeing and investment scams \nProtective measures and best practices \nResources for assistance and reporting \n 
URL:https://carolinecolonna.com/event/scams-targeting-seniors/
LOCATION:434 Prior Street SE\, Gainesville\, Ga 30501
CATEGORIES:Life After 55 Truth Series
ORGANIZER;CN="Caroline Colonna":MAILTO:carolinecolonnare@gmail.com
END:VEVENT
BEGIN:VEVENT
DTSTART;TZID=America/New_York:20250721T114500
DTEND;TZID=America/New_York:20250721T130000
DTSTAMP:20260423T120415
CREATED:20250701T161722Z
LAST-MODIFIED:20250715T144945Z
UID:1254-1753098300-1753102800@carolinecolonna.com
SUMMARY:Home Health and In Home Care
DESCRIPTION:Home Health and In Home Care \nTopics covered: \nThe difference between the two \nEssential legal documents needed for home health \nCost associated with these two \nqualifications and certifications to look for \n 
URL:https://carolinecolonna.com/event/home-health-and-in-home-care/
LOCATION:434 Prior Street SE\, Gainesville\, Ga 30501
CATEGORIES:Life After 55 Truth Series
ORGANIZER;CN="Caroline Colonna":MAILTO:carolinecolonnare@gmail.com
END:VEVENT
BEGIN:VEVENT
DTSTART;TZID=America/New_York:20250616T114500
DTEND;TZID=America/New_York:20250616T130000
DTSTAMP:20260423T120415
CREATED:20250519T213302Z
LAST-MODIFIED:20250520T002842Z
UID:1251-1750074300-1750078800@carolinecolonna.com
SUMMARY:Georgia Tech Center for Inclusive Design and Innovation
DESCRIPTION:Learn about assistive tehnology to support daily living and aging in place \nDiscover resources available to older adults in Georgia \nHands on opportunity to try different propducts \n 
URL:https://carolinecolonna.com/event/georgia-tech-center-for-inclusive-design-and-innovation/
LOCATION:434 Prior Street SE\, Gainesville\, Ga 30501
CATEGORIES:Life After 55 Truth Series
ORGANIZER;CN="Caroline Colonna":MAILTO:carolinecolonnare@gmail.com
END:VEVENT
BEGIN:VEVENT
DTSTART;TZID=America/New_York:20250519T114500
DTEND;TZID=America/New_York:20250519T130000
DTSTAMP:20260423T120415
CREATED:20250429T133902Z
LAST-MODIFIED:20250429T133902Z
UID:1247-1747655100-1747659600@carolinecolonna.com
SUMMARY:Navigating The Caregivers Journey
DESCRIPTION:Topics covered: \nHard conversations \nAdvocating for your loved one \nCaregiver’s guilt \nPhysical symptoms of caregiving \n 
URL:https://carolinecolonna.com/event/navigating-the-caregivers-journey/
LOCATION:434 Prior Street SE\, Gainesville\, Ga 30501
CATEGORIES:Life After 55 Truth Series
ORGANIZER;CN="Caroline Colonna":MAILTO:carolinecolonnare@gmail.com
END:VEVENT
END:VCALENDAR